BEGIN:VCALENDAR
VERSION:2.0
PRODID:-//DFX CrossFit - Raleigh, NC - ECPv6.15.10//NONSGML v1.0//EN
CALSCALE:GREGORIAN
METHOD:PUBLISH
X-ORIGINAL-URL:https://dfxcrossfit.com
X-WR-CALDESC:Events for DFX CrossFit - Raleigh, NC
REFRESH-INTERVAL;VALUE=DURATION:PT1H
X-Robots-Tag:noindex
X-PUBLISHED-TTL:PT1H
BEGIN:VTIMEZONE
TZID:America/New_York
BEGIN:DAYLIGHT
TZOFFSETFROM:-0500
TZOFFSETTO:-0400
TZNAME:EDT
DTSTART:20240310T070000
END:DAYLIGHT
BEGIN:STANDARD
TZOFFSETFROM:-0400
TZOFFSETTO:-0500
TZNAME:EST
DTSTART:20241103T060000
END:STANDARD
BEGIN:DAYLIGHT
TZOFFSETFROM:-0500
TZOFFSETTO:-0400
TZNAME:EDT
DTSTART:20250309T070000
END:DAYLIGHT
BEGIN:STANDARD
TZOFFSETFROM:-0400
TZOFFSETTO:-0500
TZNAME:EST
DTSTART:20251102T060000
END:STANDARD
BEGIN:DAYLIGHT
TZOFFSETFROM:-0500
TZOFFSETTO:-0400
TZNAME:EDT
DTSTART:20260308T070000
END:DAYLIGHT
BEGIN:STANDARD
TZOFFSETFROM:-0400
TZOFFSETTO:-0500
TZNAME:EST
DTSTART:20261101T060000
END:STANDARD
END:VTIMEZONE
BEGIN:VEVENT
DTSTART;TZID=America/New_York:20250904T070000
DTEND;TZID=America/New_York:20250904T080000
DTSTAMP:20260422T034604
CREATED:20250818T155802Z
LAST-MODIFIED:20250818T161036Z
UID:10000480-1756969200-1756972800@dfxcrossfit.com
SUMMARY:HYROX Conditioning Program at DFX
DESCRIPTION:Built for Racers. Perfect for Anyone.\nWhether you’re looking to boost endurance or training for your next HYROX event –  this program can be a nice addition to your plan. \nOur HYROX-inspired conditioning class will combine strength\, cardio\, and functional movement in a fun\, accessible way. \nAll levels are welcome. No experience needed. Just show up\, work hard\, and try something new! \n Every Thursday at 7:00 AM starting September 4th — come try it out!
URL:https://dfxcrossfit.com/event/hyrox-conditioning-program-at-dfx/
LOCATION:DFX CrossFit\, 6241 Westgate Road Suite 100\, Raleigh\, NC\, 27617\, United States
CATEGORIES:Training
ATTACH;FMTTYPE=image/png:https://dfxcrossfit.com/wp-content/uploads/2025/08/Untitled-design-scaled-e1755533232632.png
END:VEVENT
BEGIN:VEVENT
DTSTART;TZID=America/New_York:20250904T150000
DTEND;TZID=America/New_York:20250904T180000
DTSTAMP:20260422T034604
CREATED:20250716T185557Z
LAST-MODIFIED:20250818T161659Z
UID:10000478-1756998000-1757008800@dfxcrossfit.com
SUMMARY:PT Pop-Ups with MovementX
DESCRIPTION:Don’t train through pain — get expert eyes on it.\nThese private sessions are just $30 and are a great opportunity for athletes or parents to: \n\nAddress pain\, tightness\, or discomfort\nAsk about nagging injuries\nGet real-time\, movement-based feedback\n\nSpots are limited — sign up now before they fill!\n30-minute sessions | $30 \nBOOK HERE: Create a MovementX account to get started
URL:https://dfxcrossfit.com/event/on-site-pt-at-diamondfit/
LOCATION:DFX CrossFit\, 6241 Westgate Road Suite 100\, Raleigh\, NC\, 27617\, United States
CATEGORIES:Recovery
ATTACH;FMTTYPE=image/png:https://dfxcrossfit.com/wp-content/uploads/2025/07/DFX_PT.png
END:VEVENT
BEGIN:VEVENT
DTSTART;TZID=America/New_York:20250906T100000
DTEND;TZID=America/New_York:20250906T120000
DTSTAMP:20260422T034604
CREATED:20250818T155118Z
LAST-MODIFIED:20250818T155118Z
UID:10000479-1757152800-1757160000@dfxcrossfit.com
SUMMARY:DFX Pickleball Tournament
DESCRIPTION: DFX Pickleball Tournament \nJoin us for fun\, food\, and community at our first Pickleball Tournament! Friends & Family welcome! \nLocation: DFX CrossFit\nWhen: September 6 from 10am until\n$5 per person / $10 per team \n(Cash only — goes towards pizza for all players!)\nNo partner? We’ll pair you with one! \nWinner Gets: A FREE Vitamin Infusion from Raleigh Well or credits for our Wellness Lounge recovery modalities (for those scared of needles) \nReserve Your Spot Here
URL:https://dfxcrossfit.com/event/dfx-pickleball-tournament/
LOCATION:DFX CrossFit\, 6241 Westgate Road Suite 100\, Raleigh\, NC\, 27617\, United States
CATEGORIES:Fun and Events
ATTACH;FMTTYPE=image/png:https://dfxcrossfit.com/wp-content/uploads/2025/08/PickleballDFX-e1755532240578.png
END:VEVENT
END:VCALENDAR