BEGIN:VCALENDAR
VERSION:2.0
PRODID:-//DFX CrossFit - Raleigh, NC - ECPv6.15.10//NONSGML v1.0//EN
CALSCALE:GREGORIAN
METHOD:PUBLISH
X-WR-CALNAME:DFX CrossFit - Raleigh, NC
X-ORIGINAL-URL:https://dfxcrossfit.com
X-WR-CALDESC:Events for DFX CrossFit - Raleigh, NC
REFRESH-INTERVAL;VALUE=DURATION:PT1H
X-Robots-Tag:noindex
X-PUBLISHED-TTL:PT1H
BEGIN:VTIMEZONE
TZID:America/New_York
BEGIN:DAYLIGHT
TZOFFSETFROM:-0500
TZOFFSETTO:-0400
TZNAME:EDT
DTSTART:20210314T070000
END:DAYLIGHT
BEGIN:STANDARD
TZOFFSETFROM:-0400
TZOFFSETTO:-0500
TZNAME:EST
DTSTART:20211107T060000
END:STANDARD
BEGIN:DAYLIGHT
TZOFFSETFROM:-0500
TZOFFSETTO:-0400
TZNAME:EDT
DTSTART:20220313T070000
END:DAYLIGHT
BEGIN:STANDARD
TZOFFSETFROM:-0400
TZOFFSETTO:-0500
TZNAME:EST
DTSTART:20221106T060000
END:STANDARD
BEGIN:DAYLIGHT
TZOFFSETFROM:-0500
TZOFFSETTO:-0400
TZNAME:EDT
DTSTART:20230312T070000
END:DAYLIGHT
BEGIN:STANDARD
TZOFFSETFROM:-0400
TZOFFSETTO:-0500
TZNAME:EST
DTSTART:20231105T060000
END:STANDARD
END:VTIMEZONE
BEGIN:VEVENT
DTSTART;TZID=America/New_York:20220821T110000
DTEND;TZID=America/New_York:20220821T120000
DTSTAMP:20260420T232017
CREATED:20220810T165440Z
LAST-MODIFIED:20220824T193722Z
UID:10000047-1661079600-1661083200@dfxcrossfit.com
SUMMARY:Yoga Day
DESCRIPTION:Join us Sunday\, August 21st at 11 am for a special yoga class led by none other than our favorite fiery redheaded yogi and CrossFitter\, C. Michelle Taylor. \nNo Open Gym during this time.
URL:https://dfxcrossfit.com/event/yoga-day/
LOCATION:DFX CrossFit\, 6241 Westgate Road Suite 100\, Raleigh\, NC\, 27617\, United States
ATTACH;FMTTYPE=image/jpeg:https://dfxcrossfit.com/wp-content/uploads/2022/08/7DCBK0_yoga.jpeg
END:VEVENT
BEGIN:VEVENT
DTSTART;TZID=America/New_York:20220827T113000
DTEND;TZID=America/New_York:20220827T130000
DTSTAMP:20260420T232017
CREATED:20220810T165244Z
LAST-MODIFIED:20220824T193641Z
UID:10000046-1661599800-1661605200@dfxcrossfit.com
SUMMARY:High-Performance Treadmill Clinic
DESCRIPTION:Utilizing the TruffTread treadmill for high-intensity incline sprints helps to increase speed\, stamina\, and power output. The incline helps promote efficient running mechanics while strengthening the glutes\, hamstrings\, quads\, calves\, and core. The treadmill also helps increase the anaerobic threshold without putting extra miles on your legs. \nTLDR – Do you want to increase your lifts\, sprints\, and overall power output and be the best CrossFitter ever? Join us for this clinic. \n100% Free for members and non-members. \nAll nonmembers please RSVP to dfx@diamondfitperformance.com
URL:https://dfxcrossfit.com/event/high-performance-treadmill-clinic/
LOCATION:DFX CrossFit\, 6241 Westgate Road Suite 100\, Raleigh\, NC\, 27617\, United States
ATTACH;FMTTYPE=image/jpeg:https://dfxcrossfit.com/wp-content/uploads/2022/08/DHXS1Y_Treadmill.jpeg
ORGANIZER;CN="Heather C.":MAILTO:dfx@diamondfitperformance.com
END:VEVENT
END:VCALENDAR