BEGIN:VCALENDAR
VERSION:2.0
PRODID:-//DFX CrossFit - Raleigh, NC - ECPv6.15.10//NONSGML v1.0//EN
CALSCALE:GREGORIAN
METHOD:PUBLISH
X-WR-CALNAME:DFX CrossFit - Raleigh, NC
X-ORIGINAL-URL:https://dfxcrossfit.com
X-WR-CALDESC:Events for DFX CrossFit - Raleigh, NC
REFRESH-INTERVAL;VALUE=DURATION:PT1H
X-Robots-Tag:noindex
X-PUBLISHED-TTL:PT1H
BEGIN:VTIMEZONE
TZID:America/New_York
BEGIN:DAYLIGHT
TZOFFSETFROM:-0500
TZOFFSETTO:-0400
TZNAME:EDT
DTSTART:20220313T070000
END:DAYLIGHT
BEGIN:STANDARD
TZOFFSETFROM:-0400
TZOFFSETTO:-0500
TZNAME:EST
DTSTART:20221106T060000
END:STANDARD
BEGIN:DAYLIGHT
TZOFFSETFROM:-0500
TZOFFSETTO:-0400
TZNAME:EDT
DTSTART:20230312T070000
END:DAYLIGHT
BEGIN:STANDARD
TZOFFSETFROM:-0400
TZOFFSETTO:-0500
TZNAME:EST
DTSTART:20231105T060000
END:STANDARD
BEGIN:DAYLIGHT
TZOFFSETFROM:-0500
TZOFFSETTO:-0400
TZNAME:EDT
DTSTART:20240310T070000
END:DAYLIGHT
BEGIN:STANDARD
TZOFFSETFROM:-0400
TZOFFSETTO:-0500
TZNAME:EST
DTSTART:20241103T060000
END:STANDARD
END:VTIMEZONE
BEGIN:VEVENT
DTSTART;TZID=America/New_York:20230204T083000
DTEND;TZID=America/New_York:20230204T130000
DTSTAMP:20260422T022538
CREATED:20230110T194053Z
LAST-MODIFIED:20230110T200723Z
UID:10000057-1675499400-1675515600@dfxcrossfit.com
SUMMARY:DiamondFit Weightlifting Club Barbell Battle
DESCRIPTION:When: Saturday\, February 4th  \nWhat Time:  8:30 check-in\, 9:00 am start \nEntry Fee: $10 \nDonations:  Additional donations will be accepted and appreciated at the time of check-in.  More details on how you can donate are coming soon.   \n 
URL:https://dfxcrossfit.com/event/diamondfit-weightlifting-club-barbell-battle/
LOCATION:DiamondFit Weightlifting Club\, 6241 Westgate Road Suite 100\, Raleigh\, NC\, 27617\, United States
CATEGORIES:Competition
ATTACH;FMTTYPE=image/png:https://dfxcrossfit.com/wp-content/uploads/2023/01/Barbell-1.png
ORGANIZER;CN="DiamondFit Weightlifting Club":MAILTO:DWC@diamondfitperformance.com
END:VEVENT
BEGIN:VEVENT
DTSTART;VALUE=DATE:20230214
DTEND;VALUE=DATE:20230215
DTSTAMP:20260422T022538
CREATED:20230203T211717Z
LAST-MODIFIED:20230203T211718Z
UID:10000060-1676332800-1676419199@dfxcrossfit.com
SUMMARY:Valentine's Partner WOD
DESCRIPTION:  Grab your favorite swole sista\, bro\, mate or buddy for the Partner WOD on Tuesday\, February 14th.  \n 
URL:https://dfxcrossfit.com/event/valentines-partner-wod/
LOCATION:DFX CrossFit\, 6241 Westgate Road Suite 100\, Raleigh\, NC\, 27617\, United States
ATTACH;FMTTYPE=image/jpeg:https://dfxcrossfit.com/wp-content/uploads/2023/02/unnamed-1.jpg
END:VEVENT
BEGIN:VEVENT
DTSTART;VALUE=DATE:20230216
DTEND;VALUE=DATE:20230305
DTSTAMP:20260422T022538
CREATED:20230203T212249Z
LAST-MODIFIED:20230203T212250Z
UID:10000071-1676505600-1677974399@dfxcrossfit.com
SUMMARY:2023 CrossFit Open
DESCRIPTION:The 2023 CrossFit Open begins on Thursday\, Feb 16th \nWorkouts will be released on Thursday and we will do the workouts in all classes on Friday.  The 6\, 9 and 9:30 am classes will run as normal. \nHeats start at 5:oo pm on Friday nights. \nThere will be a programmed warm-up for you via SugarWod.  Even if you did not officially sign up for the Open you can and should still participate on Friday!
URL:https://dfxcrossfit.com/event/2023-crossfit-open/
LOCATION:DiamondFit Weightlifting Club\, 6241 Westgate Road Suite 100\, Raleigh\, NC\, 27617\, United States
CATEGORIES:Competition
ATTACH;FMTTYPE=image/png:https://dfxcrossfit.com/wp-content/uploads/2023/02/CFOpen.png
END:VEVENT
END:VCALENDAR