BEGIN:VCALENDAR
VERSION:2.0
PRODID:-//DFX CrossFit - Raleigh, NC - ECPv6.15.10//NONSGML v1.0//EN
CALSCALE:GREGORIAN
METHOD:PUBLISH
X-ORIGINAL-URL:https://dfxcrossfit.com
X-WR-CALDESC:Events for DFX CrossFit - Raleigh, NC
REFRESH-INTERVAL;VALUE=DURATION:PT1H
X-Robots-Tag:noindex
X-PUBLISHED-TTL:PT1H
BEGIN:VTIMEZONE
TZID:America/New_York
BEGIN:DAYLIGHT
TZOFFSETFROM:-0500
TZOFFSETTO:-0400
TZNAME:EDT
DTSTART:20220313T070000
END:DAYLIGHT
BEGIN:STANDARD
TZOFFSETFROM:-0400
TZOFFSETTO:-0500
TZNAME:EST
DTSTART:20221106T060000
END:STANDARD
BEGIN:DAYLIGHT
TZOFFSETFROM:-0500
TZOFFSETTO:-0400
TZNAME:EDT
DTSTART:20230312T070000
END:DAYLIGHT
BEGIN:STANDARD
TZOFFSETFROM:-0400
TZOFFSETTO:-0500
TZNAME:EST
DTSTART:20231105T060000
END:STANDARD
BEGIN:DAYLIGHT
TZOFFSETFROM:-0500
TZOFFSETTO:-0400
TZNAME:EDT
DTSTART:20240310T070000
END:DAYLIGHT
BEGIN:STANDARD
TZOFFSETFROM:-0400
TZOFFSETTO:-0500
TZNAME:EST
DTSTART:20241103T060000
END:STANDARD
END:VTIMEZONE
BEGIN:VEVENT
DTSTART;TZID=America/New_York:20230509T180000
DTEND;TZID=America/New_York:20230509T223000
DTSTAMP:20260420T185917
CREATED:20230508T172651Z
LAST-MODIFIED:20230509T145151Z
UID:10000074-1683655200-1683671400@dfxcrossfit.com
SUMMARY:Pro5 Family Night at Ting Park
DESCRIPTION:Check out Family Night this Tuesday\, 5/9 at Ting Park! \nStick around afterward to for a chance to run the bases and meet the Pro5 players!
URL:https://dfxcrossfit.com/event/pro5-family-night-at-ting-park/
LOCATION:Ting Park\, 101 Sportsmanship Way\, Holly Springs\, NC\, 27540\, United States
ATTACH;FMTTYPE=image/png:https://dfxcrossfit.com/wp-content/uploads/2023/05/Family-Night.png
END:VEVENT
BEGIN:VEVENT
DTSTART;TZID=America/New_York:20230520T090000
DTEND;TZID=America/New_York:20230520T160000
DTSTAMP:20260420T185917
CREATED:20230118T031302Z
LAST-MODIFIED:20240506T165713Z
UID:10000058-1684573200-1684598400@dfxcrossfit.com
SUMMARY:Hot Hot Heat Weightlifting Meet II
DESCRIPTION:Join us for DiamondFit Weightlifting Club’s Second annual HOT HOT HEAT WEIGHTLIFTING MEET. \nThis is a USA Weightlifting Sanctioned event.   \nUSAW memberships are preferred but not required to participate. \nIf you are looking for a great introductory first meet\, this is it!   \nAll ages and abilities are welcome. \nSpace is limited so register early! \nEarly Bird Registration:  $65 – Register before March 25th.    \nAfter March 25: $75 \n The registration deadline is May 15th! \nSorry\, no refunds or transfers. \nEmail jesse@diamondfitperformance.com with questions!
URL:https://dfxcrossfit.com/event/hot-hot-heat-weightlifting-meet-ii/
LOCATION:DiamondFit Weightlifting Club\, 6241 Westgate Road Suite 100\, Raleigh\, NC\, 27617\, United States
CATEGORIES:Competition
ATTACH;FMTTYPE=image/png:https://dfxcrossfit.com/wp-content/uploads/2023/01/Untitled-copy-5.png
ORGANIZER;CN="DiamondFit Weightlifting Club":MAILTO:DWC@diamondfitperformance.com
END:VEVENT
END:VCALENDAR