BEGIN:VCALENDAR
VERSION:2.0
PRODID:-//DFX CrossFit - Raleigh, NC - ECPv6.15.10//NONSGML v1.0//EN
CALSCALE:GREGORIAN
METHOD:PUBLISH
X-ORIGINAL-URL:https://dfxcrossfit.com
X-WR-CALDESC:Events for DFX CrossFit - Raleigh, NC
REFRESH-INTERVAL;VALUE=DURATION:PT1H
X-Robots-Tag:noindex
X-PUBLISHED-TTL:PT1H
BEGIN:VTIMEZONE
TZID:America/New_York
BEGIN:DAYLIGHT
TZOFFSETFROM:-0500
TZOFFSETTO:-0400
TZNAME:EDT
DTSTART:20220313T070000
END:DAYLIGHT
BEGIN:STANDARD
TZOFFSETFROM:-0400
TZOFFSETTO:-0500
TZNAME:EST
DTSTART:20221106T060000
END:STANDARD
BEGIN:DAYLIGHT
TZOFFSETFROM:-0500
TZOFFSETTO:-0400
TZNAME:EDT
DTSTART:20230312T070000
END:DAYLIGHT
BEGIN:STANDARD
TZOFFSETFROM:-0400
TZOFFSETTO:-0500
TZNAME:EST
DTSTART:20231105T060000
END:STANDARD
BEGIN:DAYLIGHT
TZOFFSETFROM:-0500
TZOFFSETTO:-0400
TZNAME:EDT
DTSTART:20240310T070000
END:DAYLIGHT
BEGIN:STANDARD
TZOFFSETFROM:-0400
TZOFFSETTO:-0500
TZNAME:EST
DTSTART:20241103T060000
END:STANDARD
END:VTIMEZONE
BEGIN:VEVENT
DTSTART;TZID=America/New_York:20230803T173000
DTEND;TZID=America/New_York:20230803T173000
DTSTAMP:20260422T030001
CREATED:20230717T164352Z
LAST-MODIFIED:20230717T164352Z
UID:10000077-1691083800-1691083800@dfxcrossfit.com
SUMMARY:Mobility Clinic!
DESCRIPTION:Do you work on your mobility?  Looking for a good routine to improve your Mobility?  Join Coach Abbey on August 3rd at 5:30 pm as she walks you through a variety of mobility exercises that will help improve your range of motion. \nThis is FREE for all DWC\, DFXCrossFit and DiamondFit Performance Members.
URL:https://dfxcrossfit.com/event/mobility-clinic/
LOCATION:DFX CrossFit\, 6241 Westgate Road Suite 100\, Raleigh\, NC\, 27617\, United States
ATTACH;FMTTYPE=image/jpeg:https://dfxcrossfit.com/wp-content/uploads/2023/07/BrightGreenBlackPeachThin-LinedFramesBrightTypeSel-9906db028a05143c.jpg
ORGANIZER;CN="Heather C.":MAILTO:dfx@diamondfitperformance.com
END:VEVENT
END:VCALENDAR