BEGIN:VCALENDAR
VERSION:2.0
PRODID:-//DFX CrossFit - Raleigh, NC - ECPv6.15.10//NONSGML v1.0//EN
CALSCALE:GREGORIAN
METHOD:PUBLISH
X-ORIGINAL-URL:https://dfxcrossfit.com
X-WR-CALDESC:Events for DFX CrossFit - Raleigh, NC
REFRESH-INTERVAL;VALUE=DURATION:PT1H
X-Robots-Tag:noindex
X-PUBLISHED-TTL:PT1H
BEGIN:VTIMEZONE
TZID:America/New_York
BEGIN:DAYLIGHT
TZOFFSETFROM:-0500
TZOFFSETTO:-0400
TZNAME:EDT
DTSTART:20220313T070000
END:DAYLIGHT
BEGIN:STANDARD
TZOFFSETFROM:-0400
TZOFFSETTO:-0500
TZNAME:EST
DTSTART:20221106T060000
END:STANDARD
BEGIN:DAYLIGHT
TZOFFSETFROM:-0500
TZOFFSETTO:-0400
TZNAME:EDT
DTSTART:20230312T070000
END:DAYLIGHT
BEGIN:STANDARD
TZOFFSETFROM:-0400
TZOFFSETTO:-0500
TZNAME:EST
DTSTART:20231105T060000
END:STANDARD
BEGIN:DAYLIGHT
TZOFFSETFROM:-0500
TZOFFSETTO:-0400
TZNAME:EDT
DTSTART:20240310T070000
END:DAYLIGHT
BEGIN:STANDARD
TZOFFSETFROM:-0400
TZOFFSETTO:-0500
TZNAME:EST
DTSTART:20241103T060000
END:STANDARD
END:VTIMEZONE
BEGIN:VEVENT
DTSTART;TZID=America/New_York:20230902T090000
DTEND;TZID=America/New_York:20230902T110000
DTSTAMP:20260422T030026
CREATED:20230825T142311Z
LAST-MODIFIED:20230825T142311Z
UID:10000061-1693645200-1693652400@dfxcrossfit.com
SUMMARY:DFX Family is the Best!
DESCRIPTION:Hi DFX Fam!\nOne of our very own will soon be facing surgery for prostate cancer and we are going to show our support! \n \nDave is as good and down to the earth as they come and absolutely does not want any fuss but we are having a send-off WOD for him on September 2nd. \nPlease come out to show your support.  \nWe are also taking donations toward a Door Dash Gift Card to help ease his recovery.  \nYou can Venmo Heather Coracini here to contribute to the gift card.  
URL:https://dfxcrossfit.com/event/dfx-family-is-the-best/
LOCATION:DFX CrossFit\, 6241 Westgate Road Suite 100\, Raleigh\, NC\, 27617\, United States
ATTACH;FMTTYPE=image/png:https://dfxcrossfit.com/wp-content/uploads/2023/03/DFX-Logo-Circle-Raleigh-White-Back.png
ORGANIZER;CN="Heather C.":MAILTO:dfx@diamondfitperformance.com
END:VEVENT
BEGIN:VEVENT
DTSTART;VALUE=DATE:20230904
DTEND;VALUE=DATE:20230905
DTSTAMP:20260422T030026
CREATED:20230823T192951Z
LAST-MODIFIED:20230823T193029Z
UID:10000080-1693785600-1693871999@dfxcrossfit.com
SUMMARY:Happy Labor Day - No Classes!
DESCRIPTION:
URL:https://dfxcrossfit.com/event/happy-labor-day-no-classes/
LOCATION:DFX CrossFit\, 6241 Westgate Road Suite 100\, Raleigh\, NC\, 27617\, United States
ATTACH;FMTTYPE=image/png:https://dfxcrossfit.com/wp-content/uploads/2023/08/Happy-Labor-Day-5.png
END:VEVENT
BEGIN:VEVENT
DTSTART;TZID=America/New_York:20230907T173000
DTEND;TZID=America/New_York:20230907T183000
DTSTAMP:20260422T030026
CREATED:20230823T181202Z
LAST-MODIFIED:20230823T181202Z
UID:10000079-1694107800-1694111400@dfxcrossfit.com
SUMMARY:Running Clinic with Brett
DESCRIPTION:Maybe\, just maybe…running doesn’t have to suck. \nLet Coach “Fancy Feet” Brett clean up your running form at the next Athlete Clinic!   \nFree for all DFX Crossfit\, DiamondFit Weightlifting Club\, and DiamondFit members.   
URL:https://dfxcrossfit.com/event/running-clinic-with-brett/
LOCATION:DFX CrossFit\, 6241 Westgate Road Suite 100\, Raleigh\, NC\, 27617\, United States
CATEGORIES:Clinics
ATTACH;FMTTYPE=image/png:https://dfxcrossfit.com/wp-content/uploads/2023/08/ScreenShot2023-08-14at9.30.55AM-9906db028a05143c.png
END:VEVENT
END:VCALENDAR