BEGIN:VCALENDAR
VERSION:2.0
PRODID:-//DFX CrossFit - Raleigh, NC - ECPv6.15.10//NONSGML v1.0//EN
CALSCALE:GREGORIAN
METHOD:PUBLISH
X-ORIGINAL-URL:https://dfxcrossfit.com
X-WR-CALDESC:Events for DFX CrossFit - Raleigh, NC
REFRESH-INTERVAL;VALUE=DURATION:PT1H
X-Robots-Tag:noindex
X-PUBLISHED-TTL:PT1H
BEGIN:VTIMEZONE
TZID:America/New_York
BEGIN:DAYLIGHT
TZOFFSETFROM:-0500
TZOFFSETTO:-0400
TZNAME:EDT
DTSTART:20230312T070000
END:DAYLIGHT
BEGIN:STANDARD
TZOFFSETFROM:-0400
TZOFFSETTO:-0500
TZNAME:EST
DTSTART:20231105T060000
END:STANDARD
BEGIN:DAYLIGHT
TZOFFSETFROM:-0500
TZOFFSETTO:-0400
TZNAME:EDT
DTSTART:20240310T070000
END:DAYLIGHT
BEGIN:STANDARD
TZOFFSETFROM:-0400
TZOFFSETTO:-0500
TZNAME:EST
DTSTART:20241103T060000
END:STANDARD
BEGIN:DAYLIGHT
TZOFFSETFROM:-0500
TZOFFSETTO:-0400
TZNAME:EDT
DTSTART:20250309T070000
END:DAYLIGHT
BEGIN:STANDARD
TZOFFSETFROM:-0400
TZOFFSETTO:-0500
TZNAME:EST
DTSTART:20251102T060000
END:STANDARD
END:VTIMEZONE
BEGIN:VEVENT
DTSTART;TZID=America/New_York:20240718T183000
DTEND;TZID=America/New_York:20240718T193000
DTSTAMP:20260422T025729
CREATED:20240116T153348Z
LAST-MODIFIED:20240328T012111Z
UID:10000153-1721327400-1721331000@dfxcrossfit.com
SUMMARY:Yoga with Michelle Taylor. Come get flexy with us!
DESCRIPTION:Come get flexy with us!\nJoin us for an invigorating yoga experience with Michelle Taylor at DFX Crossfit! \nUnwind\, stretch\, and embrace your inner zen as Michelle guides you through a session designed to enhance flexibility and relaxation. \nDon’t miss the chance to get flexy with us and rejuvenate your mind and body. Namaste! ????‍♀️
URL:https://dfxcrossfit.com/event/yoga-with-michelle-taylor-come-get-flexy-with-us/2024-07-18/
LOCATION:DFX CrossFit\, 6241 Westgate Road Suite 100\, Raleigh\, NC\, 27617\, United States
CATEGORIES:Clinics
ATTACH;FMTTYPE=image/jpeg:https://dfxcrossfit.com/wp-content/uploads/2024/01/DFX-Yoga.jpg
END:VEVENT
END:VCALENDAR