BEGIN:VCALENDAR
VERSION:2.0
PRODID:-//DFX CrossFit - Raleigh, NC - ECPv6.15.10//NONSGML v1.0//EN
CALSCALE:GREGORIAN
METHOD:PUBLISH
X-ORIGINAL-URL:https://dfxcrossfit.com
X-WR-CALDESC:Events for DFX CrossFit - Raleigh, NC
REFRESH-INTERVAL;VALUE=DURATION:PT1H
X-Robots-Tag:noindex
X-PUBLISHED-TTL:PT1H
BEGIN:VTIMEZONE
TZID:America/New_York
BEGIN:DAYLIGHT
TZOFFSETFROM:-0500
TZOFFSETTO:-0400
TZNAME:EDT
DTSTART:20210314T070000
END:DAYLIGHT
BEGIN:STANDARD
TZOFFSETFROM:-0400
TZOFFSETTO:-0500
TZNAME:EST
DTSTART:20211107T060000
END:STANDARD
BEGIN:DAYLIGHT
TZOFFSETFROM:-0500
TZOFFSETTO:-0400
TZNAME:EDT
DTSTART:20220313T070000
END:DAYLIGHT
BEGIN:STANDARD
TZOFFSETFROM:-0400
TZOFFSETTO:-0500
TZNAME:EST
DTSTART:20221106T060000
END:STANDARD
BEGIN:DAYLIGHT
TZOFFSETFROM:-0500
TZOFFSETTO:-0400
TZNAME:EDT
DTSTART:20230312T070000
END:DAYLIGHT
BEGIN:STANDARD
TZOFFSETFROM:-0400
TZOFFSETTO:-0500
TZNAME:EST
DTSTART:20231105T060000
END:STANDARD
END:VTIMEZONE
BEGIN:VEVENT
DTSTART;VALUE=DATE:20221123
DTEND;VALUE=DATE:20221127
DTSTAMP:20260422T002424
CREATED:20221107T185004Z
LAST-MODIFIED:20221109T141526Z
UID:10000051-1669161600-1669507199@dfxcrossfit.com
SUMMARY:Thanksgiving Week Schedule
DESCRIPTION:Thanksgiving Week Schedule\n\nWednesday\, 11/23 – 9:30 am only\nThursday\, 11/24  – No classes\nFriday\, 11/25  – No Classes\nSaturday\, 11/26 – 9:30 am\n\nOpen Gym Access Available – Programming in SugarWod
URL:https://dfxcrossfit.com/event/thanksgiving-week-schedule/
LOCATION:6241 Westgate Road Suite 100\, Raleigh\, NC\, 27617\, United States
ATTACH;FMTTYPE=image/jpeg:https://dfxcrossfit.com/wp-content/uploads/2022/11/DFX_ThanksgivingWeekSchedule-1.jpg
END:VEVENT
END:VCALENDAR