BEGIN:VCALENDAR
VERSION:2.0
PRODID:-//DFX CrossFit - Raleigh, NC - ECPv6.15.10//NONSGML v1.0//EN
CALSCALE:GREGORIAN
METHOD:PUBLISH
X-ORIGINAL-URL:https://dfxcrossfit.com
X-WR-CALDESC:Events for DFX CrossFit - Raleigh, NC
REFRESH-INTERVAL;VALUE=DURATION:PT1H
X-Robots-Tag:noindex
X-PUBLISHED-TTL:PT1H
BEGIN:VTIMEZONE
TZID:America/New_York
BEGIN:DAYLIGHT
TZOFFSETFROM:-0500
TZOFFSETTO:-0400
TZNAME:EDT
DTSTART:20220313T070000
END:DAYLIGHT
BEGIN:STANDARD
TZOFFSETFROM:-0400
TZOFFSETTO:-0500
TZNAME:EST
DTSTART:20221106T060000
END:STANDARD
BEGIN:DAYLIGHT
TZOFFSETFROM:-0500
TZOFFSETTO:-0400
TZNAME:EDT
DTSTART:20230312T070000
END:DAYLIGHT
BEGIN:STANDARD
TZOFFSETFROM:-0400
TZOFFSETTO:-0500
TZNAME:EST
DTSTART:20231105T060000
END:STANDARD
BEGIN:DAYLIGHT
TZOFFSETFROM:-0500
TZOFFSETTO:-0400
TZNAME:EDT
DTSTART:20240310T070000
END:DAYLIGHT
BEGIN:STANDARD
TZOFFSETFROM:-0400
TZOFFSETTO:-0500
TZNAME:EST
DTSTART:20241103T060000
END:STANDARD
END:VTIMEZONE
BEGIN:VEVENT
DTSTART;TZID=America/New_York:20231021T080000
DTEND;TZID=America/New_York:20231022T170000
DTSTAMP:20260421T063145
CREATED:20230906T175012Z
LAST-MODIFIED:20231011T161032Z
UID:10000070-1697875200-1697994000@dfxcrossfit.com
SUMMARY:USA Weightlifting - LEVEL 1 Coach Clinic
DESCRIPTION:In this two-day course\, hosted by DFX CrossFit and the DiamondFit Weightlifting Club\, participants will gain practical information about how to safely and effectively teach how to snatch\, clean\, squat\, and jerk as well as how to best utilize weightlifting movements for beginner lifters and sport performance athletes. \nGreat opportunity for all strength and sport coaches\, CrossFit athletes and trainers\, personal trainers\, physical therapists\, and anyone starting their weightlifting journey! \n\nRegistration opens July 12th\, 2023 at 3:40 PM (MDT)\n\n\nRegistrations close October 20th\, 2023 at 11:55 PM (MDT) \n\n\nLearn more….
URL:https://dfxcrossfit.com/event/usa-weightlifting-level-1-coach-clinic/
LOCATION:DiamondFit Weightlifting Club\, 6241 Westgate Road Suite 100\, Raleigh\, NC\, 27617\, United States
CATEGORIES:Clinics
ATTACH;FMTTYPE=image/png:https://dfxcrossfit.com/wp-content/uploads/2023/09/USAW.png
END:VEVENT
BEGIN:VEVENT
DTSTART;TZID=America/New_York:20231026T183000
DTEND;TZID=America/New_York:20231026T193000
DTSTAMP:20260421T063145
CREATED:20231003T133820Z
LAST-MODIFIED:20231011T162744Z
UID:10000067-1698345000-1698348600@dfxcrossfit.com
SUMMARY:Bulletproof Shoulders Workshop
DESCRIPTION:Are you struggling with shoulder discomfort during workouts or daily activities? \nYou’re not alone. Millions of people encounter shoulder pain at some point. \nJoin Dr. Mike from Functional Chiropractic and Rehab on Thursday\, October 26th at 6:30 pm to discover effective strategies for preventing shoulder injuries. \nHurry\, as there are limited spots available for this clinic. Secure your spot now! \nTo register\, simply scan the QR code or click on the link below: \nhttps://link.rehabchirocoach.com/widget/survey/Pgye4zYAJh2qwOKbZ3ti
URL:https://dfxcrossfit.com/event/bulletproof-shoulders-workshop/
LOCATION:DFX CrossFit\, 6241 Westgate Road Suite 100\, Raleigh\, NC\, 27617\, United States
CATEGORIES:Clinics
ATTACH;FMTTYPE=image/png:https://dfxcrossfit.com/wp-content/uploads/2023/10/ScreenShot2023-10-04at9.37.32AM-9900000000079e3c.png
ORGANIZER;CN="Heather C.":MAILTO:dfx@diamondfitperformance.com
END:VEVENT
BEGIN:VEVENT
DTSTART;TZID=America/New_York:20231028T100000
DTEND;TZID=America/New_York:20231028T110000
DTSTAMP:20260421T063145
CREATED:20231011T163120Z
LAST-MODIFIED:20231023T132442Z
UID:10000066-1698487200-1698490800@dfxcrossfit.com
SUMMARY:Halloween Partner WOD @ 10AM
DESCRIPTION:Get ready for a Halloween WOD that will make you SCREAM!!!!   \nJust one class today @ 10 am. \nCostumes are not required but always welcome. \n 
URL:https://dfxcrossfit.com/event/halloween-partner-wod/
LOCATION:DFX CrossFit\, 6241 Westgate Road Suite 100\, Raleigh\, NC\, 27617\, United States
ATTACH;FMTTYPE=image/png:https://dfxcrossfit.com/wp-content/uploads/2023/10/image.png
ORGANIZER;CN="Heather C.":MAILTO:dfx@diamondfitperformance.com
END:VEVENT
END:VCALENDAR